BEGIN:VCALENDAR
VERSION:2.0
PRODID:-//AEO - ECPv6.15.12.2//NONSGML v1.0//EN
CALSCALE:GREGORIAN
METHOD:PUBLISH
X-WR-CALNAME:AEO
X-ORIGINAL-URL:https://aeo.com.pk
X-WR-CALDESC:Events for AEO
REFRESH-INTERVAL;VALUE=DURATION:PT1H
X-Robots-Tag:noindex
X-PUBLISHED-TTL:PT1H
BEGIN:VTIMEZONE
TZID:Asia/Karachi
BEGIN:STANDARD
TZOFFSETFROM:+0500
TZOFFSETTO:+0500
TZNAME:PKT
DTSTART:20250101T000000
END:STANDARD
END:VTIMEZONE
BEGIN:VEVENT
DTSTART;TZID=Asia/Karachi:20260413T140000
DTEND;TZID=Asia/Karachi:20260413T153000
DTSTAMP:20260425T155457
CREATED:20260407T075130Z
LAST-MODIFIED:20260407T081857Z
UID:55061-1776088800-1776094200@aeo.com.pk
SUMMARY:Exclusive Navitas Australasia (Australia & New Zealand) Session on 13th April
DESCRIPTION:Physical \n\n	Exclusive Navitas Australasia (Australia & New Zealand) Session on 13th April\nLimited seats available — secure your spot today! \n								\n								\n								\n															 \nEvent Details\n						 \nUniveristy\n\n\n									\n\n						 \nUniveristy Representative\n\n\n									\n\nDate & Time\n\n\n									\n\nLocation​\n\n\n									\n\nAbout this event\n\n	\n	Add to calendar	\n		\n	\n \n\n\n	Google Calendar\n\n\n	iCalendar\n\n\n	Outlook 365\n\n\n	Outlook Live
URL:https://aeo.com.pk/event/exclusive-navitas-australasia-session-on-13th-april/
LOCATION:AEO Clifton\, Karachi
CATEGORIES:Meet University Representative
ATTACH;FMTTYPE=image/jpeg:https://aeo.com.pk/wp-content/uploads/2026/04/navitas-australasia-sessions.jpeg
END:VEVENT
BEGIN:VEVENT
DTSTART;TZID=Asia/Karachi:20260422T130000
DTEND;TZID=Asia/Karachi:20260422T200000
DTSTAMP:20260425T155457
CREATED:20251212T111858Z
LAST-MODIFIED:20251215T051409Z
UID:53107-1776862800-1776888000@aeo.com.pk
SUMMARY:IELTS Online Master Class
DESCRIPTION:
URL:https://aeo.com.pk/event/ielts-online-master-class-5/
LOCATION:AEO Islamabad\, Pakistan Business Center I-8 Markaz Islamabad\, Islamabad\, capital\, 44000\, Pakistan
CATEGORIES:E-Expo Week August 2020
ORGANIZER;CN="AEO Islamabad":MAILTO:unomalik35@gmail.com
END:VEVENT
BEGIN:VEVENT
DTSTART;TZID=Asia/Karachi:20260424T150000
DTEND;TZID=Asia/Karachi:20260424T180000
DTSTAMP:20260425T155457
CREATED:20260420T122345Z
LAST-MODIFIED:20260423T064724Z
UID:55293-1777042800-1777053600@aeo.com.pk
SUMMARY:Study at UTS College Information Session on 24th April
DESCRIPTION:Physical \nStudy at UTS College Information Session on 24th April\nLimited seats available — secure your spot today! \n\n\n\n \nEvent Details\n \nUniveristy\n\n\n\n \nUniveristy Representative\n\n\n\nDate & Time\n\n\n\nLocation​\n\n\n\nAbout this event\n\n\nAdd to calendar \n  \n\nGoogle Calendar\niCalendar\nOutlook 365\nOutlook Live
URL:https://aeo.com.pk/event/study-at-uts-college-information-session-on-24th-april/
LOCATION:AEO Clifton\, Karachi
CATEGORIES:Meet University Representative
ATTACH;FMTTYPE=image/jpeg:https://aeo.com.pk/wp-content/uploads/2026/04/WhatsApp-Image-2026-04-20-at-12.45.16-PM.jpeg
END:VEVENT
BEGIN:VEVENT
DTSTART;TZID=Asia/Karachi:20260504T150000
DTEND;TZID=Asia/Karachi:20260504T180000
DTSTAMP:20260425T155458
CREATED:20260420T063354Z
LAST-MODIFIED:20260423T064703Z
UID:55262-1777906800-1777917600@aeo.com.pk
SUMMARY:Study at UTS College Information Session on 04th May
DESCRIPTION:Physical \nStudy at UTS College Information Session on 04th May\nLimited seats available — secure your spot today! \n\n\n\n \nEvent Details\n \nUniveristy\n\n\n\n \nUniveristy Representative\n\n\n\nDate & Time\n\n\n\nLocation​\n\n\n\nAbout this event\n\n\nAdd to calendar \n\n \n\nGoogle Calendar\niCalendar\nOutlook 365\nOutlook Live
URL:https://aeo.com.pk/event/study-at-uts-college-information-session-on-04th-may/
LOCATION:AEO Gulberg Lahore
CATEGORIES:Meet University Representative
ATTACH;FMTTYPE=image/jpeg:https://aeo.com.pk/wp-content/uploads/2026/04/WhatsApp-Image-2026-04-18-at-2.42.46-PM.jpeg
END:VEVENT
BEGIN:VEVENT
DTSTART;TZID=Asia/Karachi:20260527T130000
DTEND;TZID=Asia/Karachi:20260527T200000
DTSTAMP:20260425T155458
CREATED:20251212T111927Z
LAST-MODIFIED:20251215T051408Z
UID:53108-1779886800-1779912000@aeo.com.pk
SUMMARY:IELTS Online Master Class
DESCRIPTION:
URL:https://aeo.com.pk/event/ielts-online-master-class-6/
LOCATION:AEO Islamabad\, Pakistan Business Center I-8 Markaz Islamabad\, Islamabad\, capital\, 44000\, Pakistan
CATEGORIES:E-Expo Week August 2020
ORGANIZER;CN="AEO Islamabad":MAILTO:unomalik35@gmail.com
END:VEVENT
BEGIN:VEVENT
DTSTART;TZID=Asia/Karachi:20260624T130000
DTEND;TZID=Asia/Karachi:20260624T200000
DTSTAMP:20260425T155458
CREATED:20251212T111951Z
LAST-MODIFIED:20251215T051408Z
UID:53109-1782306000-1782331200@aeo.com.pk
SUMMARY:IELTS Online Master Class
DESCRIPTION:
URL:https://aeo.com.pk/event/ielts-online-master-class-7/
LOCATION:AEO Islamabad\, Pakistan Business Center I-8 Markaz Islamabad\, Islamabad\, capital\, 44000\, Pakistan
CATEGORIES:E-Expo Week August 2020
ORGANIZER;CN="AEO Islamabad":MAILTO:unomalik35@gmail.com
END:VEVENT
BEGIN:VEVENT
DTSTART;TZID=Asia/Karachi:20260722T130000
DTEND;TZID=Asia/Karachi:20260722T200000
DTSTAMP:20260425T155458
CREATED:20251212T112010Z
LAST-MODIFIED:20251215T051408Z
UID:53110-1784725200-1784750400@aeo.com.pk
SUMMARY:IELTS Online Master Class
DESCRIPTION:
URL:https://aeo.com.pk/event/ielts-online-master-class-8/
LOCATION:AEO Islamabad\, Pakistan Business Center I-8 Markaz Islamabad\, Islamabad\, capital\, 44000\, Pakistan
CATEGORIES:E-Expo Week August 2020
ORGANIZER;CN="AEO Islamabad":MAILTO:unomalik35@gmail.com
END:VEVENT
BEGIN:VEVENT
DTSTART;TZID=Asia/Karachi:20260826T130000
DTEND;TZID=Asia/Karachi:20260826T200000
DTSTAMP:20260425T155458
CREATED:20251212T112031Z
LAST-MODIFIED:20251215T051408Z
UID:53111-1787749200-1787774400@aeo.com.pk
SUMMARY:IELTS Online Master Class
DESCRIPTION:
URL:https://aeo.com.pk/event/ielts-online-master-class-9/
LOCATION:AEO Islamabad\, Pakistan Business Center I-8 Markaz Islamabad\, Islamabad\, capital\, 44000\, Pakistan
CATEGORIES:E-Expo Week August 2020
ORGANIZER;CN="AEO Islamabad":MAILTO:unomalik35@gmail.com
END:VEVENT
BEGIN:VEVENT
DTSTART;TZID=Asia/Karachi:20260923T130000
DTEND;TZID=Asia/Karachi:20260923T200000
DTSTAMP:20260425T155458
CREATED:20251212T112050Z
LAST-MODIFIED:20251215T051408Z
UID:53112-1790168400-1790193600@aeo.com.pk
SUMMARY:IELTS Online Master Class
DESCRIPTION:
URL:https://aeo.com.pk/event/ielts-online-master-class-10/
LOCATION:AEO Islamabad\, Pakistan Business Center I-8 Markaz Islamabad\, Islamabad\, capital\, 44000\, Pakistan
CATEGORIES:E-Expo Week August 2020
ORGANIZER;CN="AEO Islamabad":MAILTO:unomalik35@gmail.com
END:VEVENT
BEGIN:VEVENT
DTSTART;TZID=Asia/Karachi:20261028T130000
DTEND;TZID=Asia/Karachi:20261028T200000
DTSTAMP:20260425T155458
CREATED:20251212T112129Z
LAST-MODIFIED:20251215T051407Z
UID:53113-1793192400-1793217600@aeo.com.pk
SUMMARY:IELTS Online Master Class
DESCRIPTION:
URL:https://aeo.com.pk/event/ielts-online-master-class-11/
LOCATION:AEO Islamabad\, Pakistan Business Center I-8 Markaz Islamabad\, Islamabad\, capital\, 44000\, Pakistan
CATEGORIES:E-Expo Week August 2020
ORGANIZER;CN="AEO Islamabad":MAILTO:unomalik35@gmail.com
END:VEVENT
BEGIN:VEVENT
DTSTART;TZID=Asia/Karachi:20261125T130000
DTEND;TZID=Asia/Karachi:20261125T200000
DTSTAMP:20260425T155458
CREATED:20251212T112149Z
LAST-MODIFIED:20251215T051407Z
UID:53114-1795611600-1795636800@aeo.com.pk
SUMMARY:IELTS Online Master Class
DESCRIPTION:
URL:https://aeo.com.pk/event/ielts-online-master-class-12/
LOCATION:AEO Islamabad\, Pakistan Business Center I-8 Markaz Islamabad\, Islamabad\, capital\, 44000\, Pakistan
CATEGORIES:E-Expo Week August 2020
ORGANIZER;CN="AEO Islamabad":MAILTO:unomalik35@gmail.com
END:VEVENT
BEGIN:VEVENT
DTSTART;TZID=Asia/Karachi:20261223T130000
DTEND;TZID=Asia/Karachi:20261223T200000
DTSTAMP:20260425T155458
CREATED:20251212T112233Z
LAST-MODIFIED:20251215T054356Z
UID:53115-1798030800-1798056000@aeo.com.pk
SUMMARY:IELTS Online Master Class
DESCRIPTION:
URL:https://aeo.com.pk/event/ielts-online-master-class-13/
LOCATION:AEO Islamabad\, Pakistan Business Center I-8 Markaz Islamabad\, Islamabad\, capital\, 44000\, Pakistan
CATEGORIES:E-Expo Week August 2020
ORGANIZER;CN="AEO Islamabad":MAILTO:unomalik35@gmail.com
END:VEVENT
BEGIN:VEVENT
DTSTART;TZID=Asia/Karachi:20270127T130000
DTEND;TZID=Asia/Karachi:20270127T200000
DTSTAMP:20260425T155458
CREATED:20251212T112339Z
LAST-MODIFIED:20251215T054404Z
UID:53128-1801054800-1801080000@aeo.com.pk
SUMMARY:IELTS Online Master Class
DESCRIPTION:
URL:https://aeo.com.pk/event/ielts-online-master-class-14/
LOCATION:AEO Islamabad\, Pakistan Business Center I-8 Markaz Islamabad\, Islamabad\, capital\, 44000\, Pakistan
CATEGORIES:E-Expo Week August 2020
ORGANIZER;CN="AEO Islamabad":MAILTO:unomalik35@gmail.com
END:VEVENT
END:VCALENDAR