BEGIN:VCALENDAR
VERSION:2.0
PRODID:-//AEO - ECPv6.15.12.2//NONSGML v1.0//EN
CALSCALE:GREGORIAN
METHOD:PUBLISH
X-WR-CALNAME:AEO
X-ORIGINAL-URL:https://aeo.com.pk
X-WR-CALDESC:Events for AEO
REFRESH-INTERVAL;VALUE=DURATION:PT1H
X-Robots-Tag:noindex
X-PUBLISHED-TTL:PT1H
BEGIN:VTIMEZONE
TZID:Asia/Karachi
BEGIN:STANDARD
TZOFFSETFROM:+0500
TZOFFSETTO:+0500
TZNAME:PKT
DTSTART:20240101T000000
END:STANDARD
END:VTIMEZONE
BEGIN:VEVENT
DTSTART;TZID=Asia/Karachi:20260128T130000
DTEND;TZID=Asia/Karachi:20260128T200000
DTSTAMP:20260425T091713
CREATED:20251212T111603Z
LAST-MODIFIED:20251215T051409Z
UID:53104-1769605200-1769630400@aeo.com.pk
SUMMARY:IELTS Online Master Class
DESCRIPTION:
URL:https://aeo.com.pk/event/ielts-online-master-class-2/
LOCATION:AEO Islamabad\, Pakistan Business Center I-8 Markaz Islamabad\, Islamabad\, capital\, 44000\, Pakistan
CATEGORIES:E-Expo Week August 2020
ORGANIZER;CN="AEO Islamabad":MAILTO:unomalik35@gmail.com
END:VEVENT
BEGIN:VEVENT
DTSTART;TZID=Asia/Karachi:20251224T130000
DTEND;TZID=Asia/Karachi:20251224T200000
DTSTAMP:20260425T091713
CREATED:20251211T080313Z
LAST-MODIFIED:20251215T051708Z
UID:53040-1766581200-1766606400@aeo.com.pk
SUMMARY:IELTS Online Master Class
DESCRIPTION:
URL:https://aeo.com.pk/event/ielts-online-master-class/
LOCATION:AEO Islamabad\, Pakistan Business Center I-8 Markaz Islamabad\, Islamabad\, capital\, 44000\, Pakistan
CATEGORIES:E-Expo Week August 2020
ORGANIZER;CN="AEO Islamabad":MAILTO:unomalik35@gmail.com
END:VEVENT
END:VCALENDAR