BEGIN:VCALENDAR
VERSION:2.0
PRODID:-//AEO - ECPv6.15.12.2//NONSGML v1.0//EN
CALSCALE:GREGORIAN
METHOD:PUBLISH
X-WR-CALNAME:AEO
X-ORIGINAL-URL:https://aeo.com.pk
X-WR-CALDESC:Events for AEO
REFRESH-INTERVAL;VALUE=DURATION:PT1H
X-Robots-Tag:noindex
X-PUBLISHED-TTL:PT1H
BEGIN:VTIMEZONE
TZID:Asia/Karachi
BEGIN:STANDARD
TZOFFSETFROM:+0500
TZOFFSETTO:+0500
TZNAME:PKT
DTSTART:20250101T000000
END:STANDARD
END:VTIMEZONE
BEGIN:VEVENT
DTSTART;TZID=Asia/Karachi:20260325T130000
DTEND;TZID=Asia/Karachi:20260325T200000
DTSTAMP:20260424T203208
CREATED:20251212T111841Z
LAST-MODIFIED:20251215T051409Z
UID:53106-1774443600-1774468800@aeo.com.pk
SUMMARY:IELTS Online Master Class
DESCRIPTION:Physical 						\n				\n				\n				\n			\n	Study at UTS College Information Session on 24th April		\n				\n				\n				\n							Limited seats available — secure your spot today! 						\n				\n				\n				\n					\n								\n						\n															\n															\n																				\n					\n									\n						\n															\n															\n																				\n					\n									\n						\n															\n															\n																				\n					\n									\n						\n															\n															\n																				\n					\n						\n				\n				\n					\n		\n					\n		\n				\n						\n					\n			\n						\n				\n			This event has passed. \n		\n				\n				\n				\n			Event Details		\n				\n		\n					\n		\n				\n				\n					\n			\n						\n		\n				\n				\n				\n				\n			Univeristy		\n				\n				\n				\n					\n							\n										UTS College\n									\n						\n				\n				\n				\n		\n				\n				\n					\n			\n						\n		\n				\n				\n				\n				\n			Univeristy Representative		\n				\n				\n				\n					\n							\n										Ms. Aasma Fiaz\n									\n						\n				\n				\n				\n					\n				\n		\n					\n		\n				\n				\n					\n			\n						\n		\n				\n				\n				\n				\n			Date & Time		\n				\n				\n				\n					\n							\n										24th Apr 2026\, 03:00 PM - 06:00 PM\n									\n						\n				\n				\n				\n		\n				\n				\n					\n			\n						\n		\n				\n				\n				\n				\n			Location​		\n				\n				\n				\n					\n							\n										AEO Clifton\, Karachi\n									\n						\n				\n				\n				\n					\n				\n				\n				\n			About this event		\n				\n				\n				\n							*Seats are limited. Make sure to book your place in advance.						\n				\n				\n						\n					\n			\n						\n				\n			\n	\n		\n\n	\n	Add to calendar	\n		\n	\n\n		\n			\n									\n	Google Calendar\n\n									\n	iCalendar\n\n									\n	Outlook 365\n\n									\n	Outlook Live
URL:https://aeo.com.pk/event/ielts-online-master-class-4/
LOCATION:AEO Islamabad\, Pakistan Business Center I-8 Markaz Islamabad\, Islamabad\, capital\, 44000\, Pakistan
CATEGORIES:E-Expo Week August 2020
ORGANIZER;CN="AEO Islamabad":MAILTO:unomalik35@gmail.com
END:VEVENT
BEGIN:VEVENT
DTSTART;TZID=Asia/Karachi:20260327T110000
DTEND;TZID=Asia/Karachi:20260327T130000
DTSTAMP:20260424T203208
CREATED:20260318T115154Z
LAST-MODIFIED:20260323T080650Z
UID:54660-1774609200-1774616400@aeo.com.pk
SUMMARY:Meet with Our Representative in Karachi on 27th March
DESCRIPTION:Physical 						\n				\n				\n				\n			\n	Study at UTS College Information Session on 24th April		\n				\n				\n				\n							Limited seats available — secure your spot today! 						\n				\n				\n				\n					\n								\n						\n															\n															\n																				\n					\n									\n						\n															\n															\n																				\n					\n									\n						\n															\n															\n																				\n					\n									\n						\n															\n															\n																				\n					\n						\n				\n				\n					\n		\n					\n		\n				\n						\n					\n			\n						\n				\n			This event has passed. \n		\n				\n				\n				\n			Event Details		\n				\n		\n					\n		\n				\n				\n					\n			\n						\n		\n				\n				\n				\n				\n			Univeristy		\n				\n				\n				\n					\n							\n										UTS College\n									\n						\n				\n				\n				\n		\n				\n				\n					\n			\n						\n		\n				\n				\n				\n				\n			Univeristy Representative		\n				\n				\n				\n					\n							\n										Ms. Aasma Fiaz\n									\n						\n				\n				\n				\n					\n				\n		\n					\n		\n				\n				\n					\n			\n						\n		\n				\n				\n				\n				\n			Date & Time		\n				\n				\n				\n					\n							\n										24th Apr 2026\, 03:00 PM - 06:00 PM\n									\n						\n				\n				\n				\n		\n				\n				\n					\n			\n						\n		\n				\n				\n				\n				\n			Location​		\n				\n				\n				\n					\n							\n										AEO Clifton\, Karachi\n									\n						\n				\n				\n				\n					\n				\n				\n				\n			About this event		\n				\n				\n				\n							*Seats are limited. Make sure to book your place in advance.						\n				\n				\n						\n					\n			\n						\n				\n			\n	\n		\n\n	\n	Add to calendar	\n		\n	\n\n		\n			\n									\n	Google Calendar\n\n									\n	iCalendar\n\n									\n	Outlook 365\n\n									\n	Outlook Live
URL:https://aeo.com.pk/event/meet-with-our-representative-in-karachi-on-27th-march/
LOCATION:AEO Clifton\, Karachi
CATEGORIES:Meet University Representative
ATTACH;FMTTYPE=image/jpeg:https://aeo.com.pk/wp-content/uploads/2025/08/WhatsApp-Image-2026-03-14-at-10.50.45-AM.jpeg
END:VEVENT
BEGIN:VEVENT
DTSTART;TZID=Asia/Karachi:20260328T100000
DTEND;TZID=Asia/Karachi:20260328T130000
DTSTAMP:20260424T203208
CREATED:20260323T065613Z
LAST-MODIFIED:20260323T123642Z
UID:54779-1774692000-1774702800@aeo.com.pk
SUMMARY:Meet with Our Representative in Islamabad on 28th March
DESCRIPTION:Physical 						\n				\n				\n				\n			\n	Study at UTS College Information Session on 24th April		\n				\n				\n				\n							Limited seats available — secure your spot today! 						\n				\n				\n				\n					\n								\n						\n															\n															\n																				\n					\n									\n						\n															\n															\n																				\n					\n									\n						\n															\n															\n																				\n					\n									\n						\n															\n															\n																				\n					\n						\n				\n				\n					\n		\n					\n		\n				\n						\n					\n			\n						\n				\n			This event has passed. \n		\n				\n				\n				\n			Event Details		\n				\n		\n					\n		\n				\n				\n					\n			\n						\n		\n				\n				\n				\n				\n			Univeristy		\n				\n				\n				\n					\n							\n										UTS College\n									\n						\n				\n				\n				\n		\n				\n				\n					\n			\n						\n		\n				\n				\n				\n				\n			Univeristy Representative		\n				\n				\n				\n					\n							\n										Ms. Aasma Fiaz\n									\n						\n				\n				\n				\n					\n				\n		\n					\n		\n				\n				\n					\n			\n						\n		\n				\n				\n				\n				\n			Date & Time		\n				\n				\n				\n					\n							\n										24th Apr 2026\, 03:00 PM - 06:00 PM\n									\n						\n				\n				\n				\n		\n				\n				\n					\n			\n						\n		\n				\n				\n				\n				\n			Location​		\n				\n				\n				\n					\n							\n										AEO Clifton\, Karachi\n									\n						\n				\n				\n				\n					\n				\n				\n				\n			About this event		\n				\n				\n				\n							*Seats are limited. Make sure to book your place in advance.						\n				\n				\n						\n					\n			\n						\n				\n			\n	\n		\n\n	\n	Add to calendar	\n		\n	\n\n		\n			\n									\n	Google Calendar\n\n									\n	iCalendar\n\n									\n	Outlook 365\n\n									\n	Outlook Live
URL:https://aeo.com.pk/event/meet-with-our-representative-in-islamabad-on-28th-march/
LOCATION:AEO I-8 Islamabad
CATEGORIES:Meet University Representative
ATTACH;FMTTYPE=image/jpeg:https://aeo.com.pk/wp-content/uploads/2025/08/WhatsApp-Image-2026-03-23-at-2.12.34-PM.jpeg
END:VEVENT
BEGIN:VEVENT
DTSTART;TZID=Asia/Karachi:20260330T100000
DTEND;TZID=Asia/Karachi:20260330T130000
DTSTAMP:20260424T203209
CREATED:20260323T065703Z
LAST-MODIFIED:20260323T123856Z
UID:54778-1774864800-1774875600@aeo.com.pk
SUMMARY:Meet with Our Representative in Lahore on 30th March
DESCRIPTION:Physical 						\n				\n				\n				\n			\n	Study at UTS College Information Session on 24th April		\n				\n				\n				\n							Limited seats available — secure your spot today! 						\n				\n				\n				\n					\n								\n						\n															\n															\n																				\n					\n									\n						\n															\n															\n																				\n					\n									\n						\n															\n															\n																				\n					\n									\n						\n															\n															\n																				\n					\n						\n				\n				\n					\n		\n					\n		\n				\n						\n					\n			\n						\n				\n			This event has passed. \n		\n				\n				\n				\n			Event Details		\n				\n		\n					\n		\n				\n				\n					\n			\n						\n		\n				\n				\n				\n				\n			Univeristy		\n				\n				\n				\n					\n							\n										UTS College\n									\n						\n				\n				\n				\n		\n				\n				\n					\n			\n						\n		\n				\n				\n				\n				\n			Univeristy Representative		\n				\n				\n				\n					\n							\n										Ms. Aasma Fiaz\n									\n						\n				\n				\n				\n					\n				\n		\n					\n		\n				\n				\n					\n			\n						\n		\n				\n				\n				\n				\n			Date & Time		\n				\n				\n				\n					\n							\n										24th Apr 2026\, 03:00 PM - 06:00 PM\n									\n						\n				\n				\n				\n		\n				\n				\n					\n			\n						\n		\n				\n				\n				\n				\n			Location​		\n				\n				\n				\n					\n							\n										AEO Clifton\, Karachi\n									\n						\n				\n				\n				\n					\n				\n				\n				\n			About this event		\n				\n				\n				\n							*Seats are limited. Make sure to book your place in advance.						\n				\n				\n						\n					\n			\n						\n				\n			\n	\n		\n\n	\n	Add to calendar	\n		\n	\n\n		\n			\n									\n	Google Calendar\n\n									\n	iCalendar\n\n									\n	Outlook 365\n\n									\n	Outlook Live
URL:https://aeo.com.pk/event/meet-with-our-representative-in-lahore-on-30th-march/
LOCATION:AEO Gulberg Lahore
CATEGORIES:Meet University Representative
ATTACH;FMTTYPE=image/jpeg:https://aeo.com.pk/wp-content/uploads/2025/08/WhatsApp-Image-2026-03-23-at-2.12.34-PM.jpeg
END:VEVENT
END:VCALENDAR