BEGIN:VCALENDAR
VERSION:2.0
PRODID:-//AEO - ECPv6.15.12.2//NONSGML v1.0//EN
CALSCALE:GREGORIAN
METHOD:PUBLISH
X-WR-CALNAME:AEO
X-ORIGINAL-URL:https://aeo.com.pk
X-WR-CALDESC:Events for AEO
REFRESH-INTERVAL;VALUE=DURATION:PT1H
X-Robots-Tag:noindex
X-PUBLISHED-TTL:PT1H
BEGIN:VTIMEZONE
TZID:Asia/Karachi
BEGIN:STANDARD
TZOFFSETFROM:+0500
TZOFFSETTO:+0500
TZNAME:PKT
DTSTART:20250101T000000
END:STANDARD
END:VTIMEZONE
BEGIN:VEVENT
DTSTART;TZID=Asia/Karachi:20260504T150000
DTEND;TZID=Asia/Karachi:20260504T180000
DTSTAMP:20260424T203209
CREATED:20260420T063354Z
LAST-MODIFIED:20260423T064703Z
UID:55262-1777906800-1777917600@aeo.com.pk
SUMMARY:Study at UTS College Information Session on 04th May
DESCRIPTION:Physical 						\n				\n				\n				\n			\n	Study at UTS College Information Session on 24th April		\n				\n				\n				\n							Limited seats available — secure your spot today! 						\n				\n				\n				\n					\n								\n						\n															\n															\n																				\n					\n									\n						\n															\n															\n																				\n					\n									\n						\n															\n															\n																				\n					\n									\n						\n															\n															\n																				\n					\n						\n				\n				\n					\n		\n					\n		\n				\n						\n					\n			\n						\n				\n			This event has passed. \n		\n				\n				\n				\n			Event Details		\n				\n		\n					\n		\n				\n				\n					\n			\n						\n		\n				\n				\n				\n				\n			Univeristy		\n				\n				\n				\n					\n							\n										UTS College\n									\n						\n				\n				\n				\n		\n				\n				\n					\n			\n						\n		\n				\n				\n				\n				\n			Univeristy Representative		\n				\n				\n				\n					\n							\n										Ms. Aasma Fiaz\n									\n						\n				\n				\n				\n					\n				\n		\n					\n		\n				\n				\n					\n			\n						\n		\n				\n				\n				\n				\n			Date & Time		\n				\n				\n				\n					\n							\n										24th Apr 2026\, 03:00 PM - 06:00 PM\n									\n						\n				\n				\n				\n		\n				\n				\n					\n			\n						\n		\n				\n				\n				\n				\n			Location​		\n				\n				\n				\n					\n							\n										AEO Clifton\, Karachi\n									\n						\n				\n				\n				\n					\n				\n				\n				\n			About this event		\n				\n				\n				\n							*Seats are limited. Make sure to book your place in advance.						\n				\n				\n						\n					\n			\n						\n				\n			\n	\n		\n\n	\n	Add to calendar	\n		\n	\n\n		\n			\n									\n	Google Calendar\n\n									\n	iCalendar\n\n									\n	Outlook 365\n\n									\n	Outlook Live
URL:https://aeo.com.pk/event/study-at-uts-college-information-session-on-04th-may/
LOCATION:AEO Gulberg Lahore
CATEGORIES:Meet University Representative
ATTACH;FMTTYPE=image/jpeg:https://aeo.com.pk/wp-content/uploads/2026/04/WhatsApp-Image-2026-04-18-at-2.42.46-PM.jpeg
END:VEVENT
BEGIN:VEVENT
DTSTART;TZID=Asia/Karachi:20260527T130000
DTEND;TZID=Asia/Karachi:20260527T200000
DTSTAMP:20260424T203209
CREATED:20251212T111927Z
LAST-MODIFIED:20251215T051408Z
UID:53108-1779886800-1779912000@aeo.com.pk
SUMMARY:IELTS Online Master Class
DESCRIPTION:Physical 						\n				\n				\n				\n			\n	Study at UTS College Information Session on 24th April		\n				\n				\n				\n							Limited seats available — secure your spot today! 						\n				\n				\n				\n					\n								\n						\n															\n															\n																				\n					\n									\n						\n															\n															\n																				\n					\n									\n						\n															\n															\n																				\n					\n									\n						\n															\n															\n																				\n					\n						\n				\n				\n					\n		\n					\n		\n				\n						\n					\n			\n						\n				\n			This event has passed. \n		\n				\n				\n				\n			Event Details		\n				\n		\n					\n		\n				\n				\n					\n			\n						\n		\n				\n				\n				\n				\n			Univeristy		\n				\n				\n				\n					\n							\n										UTS College\n									\n						\n				\n				\n				\n		\n				\n				\n					\n			\n						\n		\n				\n				\n				\n				\n			Univeristy Representative		\n				\n				\n				\n					\n							\n										Ms. Aasma Fiaz\n									\n						\n				\n				\n				\n					\n				\n		\n					\n		\n				\n				\n					\n			\n						\n		\n				\n				\n				\n				\n			Date & Time		\n				\n				\n				\n					\n							\n										24th Apr 2026\, 03:00 PM - 06:00 PM\n									\n						\n				\n				\n				\n		\n				\n				\n					\n			\n						\n		\n				\n				\n				\n				\n			Location​		\n				\n				\n				\n					\n							\n										AEO Clifton\, Karachi\n									\n						\n				\n				\n				\n					\n				\n				\n				\n			About this event		\n				\n				\n				\n							*Seats are limited. Make sure to book your place in advance.						\n				\n				\n						\n					\n			\n						\n				\n			\n	\n		\n\n	\n	Add to calendar	\n		\n	\n\n		\n			\n									\n	Google Calendar\n\n									\n	iCalendar\n\n									\n	Outlook 365\n\n									\n	Outlook Live
URL:https://aeo.com.pk/event/ielts-online-master-class-6/
LOCATION:AEO Islamabad\, Pakistan Business Center I-8 Markaz Islamabad\, Islamabad\, capital\, 44000\, Pakistan
CATEGORIES:E-Expo Week August 2020
ORGANIZER;CN="AEO Islamabad":MAILTO:unomalik35@gmail.com
END:VEVENT
END:VCALENDAR